BEGIN:VCALENDAR
VERSION:2.0
PRODID:-//WE United - ECPv6.15.20//NONSGML v1.0//EN
CALSCALE:GREGORIAN
METHOD:PUBLISH
X-ORIGINAL-URL:https://weunited.tech
X-WR-CALDESC:Events for WE United
REFRESH-INTERVAL;VALUE=DURATION:PT1H
X-Robots-Tag:noindex
X-PUBLISHED-TTL:PT1H
BEGIN:VTIMEZONE
TZID:America/Los_Angeles
BEGIN:DAYLIGHT
TZOFFSETFROM:-0800
TZOFFSETTO:-0700
TZNAME:PDT
DTSTART:20250309T100000
END:DAYLIGHT
BEGIN:STANDARD
TZOFFSETFROM:-0700
TZOFFSETTO:-0800
TZNAME:PST
DTSTART:20251102T090000
END:STANDARD
BEGIN:DAYLIGHT
TZOFFSETFROM:-0800
TZOFFSETTO:-0700
TZNAME:PDT
DTSTART:20260308T100000
END:DAYLIGHT
BEGIN:STANDARD
TZOFFSETFROM:-0700
TZOFFSETTO:-0800
TZNAME:PST
DTSTART:20261101T090000
END:STANDARD
BEGIN:DAYLIGHT
TZOFFSETFROM:-0800
TZOFFSETTO:-0700
TZNAME:PDT
DTSTART:20270314T100000
END:DAYLIGHT
BEGIN:STANDARD
TZOFFSETFROM:-0700
TZOFFSETTO:-0800
TZNAME:PST
DTSTART:20271107T090000
END:STANDARD
END:VTIMEZONE
BEGIN:VEVENT
DTSTART;TZID=America/Los_Angeles:20260610T080000
DTEND;TZID=America/Los_Angeles:20260611T170000
DTSTAMP:20260422T121333
CREATED:20260105T193846Z
LAST-MODIFIED:20260105T193853Z
UID:10000069-1781078400-1781197200@weunited.tech
SUMMARY:Hardware Pioneers Max26
DESCRIPTION:Join the UK’s largest expo dedicated to cutting-edge hardware technology for innovation-driven engineers \n\n\n\nAt Hardware Pioneers Max you have the unique opportunity to meet with leading experts and suppliers that can help you learn faster\, make better decisions and speed up your product development process.
URL:https://weunited.tech/event/hardware-pioneers-max26/
CATEGORIES:Industry Event
ATTACH;FMTTYPE=image/png:https://weunited.tech/wp-content/uploads/2026/01/Screenshot-2026-01-05-at-11.35.21-AM.png
END:VEVENT
END:VCALENDAR