BEGIN:VCALENDAR
VERSION:2.0
PRODID:-//WE United - ECPv6.15.20//NONSGML v1.0//EN
CALSCALE:GREGORIAN
METHOD:PUBLISH
X-ORIGINAL-URL:https://weunited.tech
X-WR-CALDESC:Events for WE United
REFRESH-INTERVAL;VALUE=DURATION:PT1H
X-Robots-Tag:noindex
X-PUBLISHED-TTL:PT1H
BEGIN:VTIMEZONE
TZID:America/Los_Angeles
BEGIN:DAYLIGHT
TZOFFSETFROM:-0800
TZOFFSETTO:-0700
TZNAME:PDT
DTSTART:20250309T100000
END:DAYLIGHT
BEGIN:STANDARD
TZOFFSETFROM:-0700
TZOFFSETTO:-0800
TZNAME:PST
DTSTART:20251102T090000
END:STANDARD
BEGIN:DAYLIGHT
TZOFFSETFROM:-0800
TZOFFSETTO:-0700
TZNAME:PDT
DTSTART:20260308T100000
END:DAYLIGHT
BEGIN:STANDARD
TZOFFSETFROM:-0700
TZOFFSETTO:-0800
TZNAME:PST
DTSTART:20261101T090000
END:STANDARD
BEGIN:DAYLIGHT
TZOFFSETFROM:-0800
TZOFFSETTO:-0700
TZNAME:PDT
DTSTART:20270314T100000
END:DAYLIGHT
BEGIN:STANDARD
TZOFFSETFROM:-0700
TZOFFSETTO:-0800
TZNAME:PST
DTSTART:20271107T090000
END:STANDARD
END:VTIMEZONE
BEGIN:VEVENT
DTSTART;TZID=America/Los_Angeles:20260505T080000
DTEND;TZID=America/Los_Angeles:20260507T170000
DTSTAMP:20260422T083933
CREATED:20260105T193240Z
LAST-MODIFIED:20260105T193245Z
UID:10000068-1777968000-1778173200@weunited.tech
SUMMARY:Sensors Converge
DESCRIPTION:Sensors Converge 2026: Where Innovation Meets Impact. \n\n\n\nJoin the global design engineering community May 5–7\, 2026 in Santa Clara\, CA at North America’s largest event where sensing\, processing\, and connectivity converge to shape the future of intelligent systems. At Sensors Converge\, your mission is simple: design smarter technologies\, accelerate development\, and power the next generation of intelligent electronics. Explore advancements across edge computing\, IoT\, MEMS\, power systems\, embedded design\, and AI-driven engineering – all under one roof.  \n\n\n\nFrom hands-on demos and real-world design challenges to visionary keynotes and industry collaborations\, this is where inspiration turns into innovation. The engineers\, innovators\, and technologists building tomorrow’s breakthroughs gather here – and it all starts with you. Design the future. Build what’s next. Converge here. 
URL:https://weunited.tech/event/sensors-converge/
CATEGORIES:Industry Event
ATTACH;FMTTYPE=image/png:https://weunited.tech/wp-content/uploads/2026/01/Sensors-Converge.png
END:VEVENT
END:VCALENDAR