BEGIN:VCALENDAR
VERSION:2.0
PRODID:-//WE United - ECPv6.15.20//NONSGML v1.0//EN
CALSCALE:GREGORIAN
METHOD:PUBLISH
X-WR-CALNAME:WE United
X-ORIGINAL-URL:https://weunited.tech
X-WR-CALDESC:Events for WE United
REFRESH-INTERVAL;VALUE=DURATION:PT1H
X-Robots-Tag:noindex
X-PUBLISHED-TTL:PT1H
BEGIN:VTIMEZONE
TZID:America/Los_Angeles
BEGIN:DAYLIGHT
TZOFFSETFROM:-0800
TZOFFSETTO:-0700
TZNAME:PDT
DTSTART:20250309T100000
END:DAYLIGHT
BEGIN:STANDARD
TZOFFSETFROM:-0700
TZOFFSETTO:-0800
TZNAME:PST
DTSTART:20251102T090000
END:STANDARD
BEGIN:DAYLIGHT
TZOFFSETFROM:-0800
TZOFFSETTO:-0700
TZNAME:PDT
DTSTART:20260308T100000
END:DAYLIGHT
BEGIN:STANDARD
TZOFFSETFROM:-0700
TZOFFSETTO:-0800
TZNAME:PST
DTSTART:20261101T090000
END:STANDARD
BEGIN:DAYLIGHT
TZOFFSETFROM:-0800
TZOFFSETTO:-0700
TZNAME:PDT
DTSTART:20270314T100000
END:DAYLIGHT
BEGIN:STANDARD
TZOFFSETFROM:-0700
TZOFFSETTO:-0800
TZNAME:PST
DTSTART:20271107T090000
END:STANDARD
END:VTIMEZONE
BEGIN:VEVENT
DTSTART;TZID=America/Los_Angeles:20260422T080000
DTEND;TZID=America/Los_Angeles:20260424T170000
DTSTAMP:20260423T032434
CREATED:20260107T065742Z
LAST-MODIFIED:20260115T215343Z
UID:10000077-1776844800-1777050000@weunited.tech
SUMMARY:WE United Leadership Summit - Europe
DESCRIPTION:Step into a leadership experience designed to redefine how you lead. The WE United Leadership Summit is a carefully curated program delivering transformative growth\, industry insight\, and meaningful professional connections. Grounded in neuroscience and a human-centered leadership model\, this Summit bridges people and performance\, placing civility\, ethics\, and humanity at the heart of business.
URL:https://weunited.tech/event/we-united-leadership-summit-europe/
CATEGORIES:Annual Summit
ATTACH;FMTTYPE=image/png:https://weunited.tech/wp-content/uploads/2026/01/2026-Summit-Hub-banner-1.png
END:VEVENT
END:VCALENDAR